BEGIN:VCALENDAR
VERSION:2.0
PRODID:-//Kennedy Gallery and Custom Framing - ECPv6.15.20//NONSGML v1.0//EN
CALSCALE:GREGORIAN
METHOD:PUBLISH
X-WR-CALNAME:Kennedy Gallery and Custom Framing
X-ORIGINAL-URL:https://kennedygalleryandframing.com
X-WR-CALDESC:Events for Kennedy Gallery and Custom Framing
REFRESH-INTERVAL;VALUE=DURATION:PT1H
X-Robots-Tag:noindex
X-PUBLISHED-TTL:PT1H
BEGIN:VTIMEZONE
TZID:UTC
BEGIN:STANDARD
TZOFFSETFROM:+0000
TZOFFSETTO:+0000
TZNAME:UTC
DTSTART:20180101T000000
END:STANDARD
END:VTIMEZONE
BEGIN:VEVENT
DTSTART;TZID=UTC:20190501T093000
DTEND;TZID=UTC:20190528T180000
DTSTAMP:20260423T112443
CREATED:20190425T215814Z
LAST-MODIFIED:20190425T215814Z
UID:15966-1556703000-1559066400@kennedygalleryandframing.com
SUMMARY:Transitions
DESCRIPTION:“TRANSITIONS” \n \nThroughout the month of May Kennedy Gallery will feature a solo exhibit of paintings by Christy Hegarty.  Christy has been painting oils around the seacoast for the past 10 years and is fascinated by the tireless work that the fishing and lobstering community endure for their craft.  Focusing on the transitions that occur when working on the water and the powerful pull of the currents\, this show honors the efforts of these hardworking people and pays homage to the local scenery in which they work. \n     \nPlease join us for the Opening Reception on Friday\, May 3 \, from 5-8 pm in conjunction with the monthly Art Round Town Gallery Walk..
URL:https://kennedygalleryandframing.com/event/transitions/
LOCATION:Kennedy Gallery & Custom Framing\, 41 Market street\, Portsmouth\, NH\, 03801
CATEGORIES:Exhibition
ORGANIZER;CN="Wendy Clement":MAILTO:art@kennedygalleryandframing.com
END:VEVENT
END:VCALENDAR